BEGIN:VCALENDAR
VERSION:2.0
PRODID:-//Mairie de Wizernes - ECPv6.15.14//NONSGML v1.0//EN
CALSCALE:GREGORIAN
METHOD:PUBLISH
X-WR-CALNAME:Mairie de Wizernes
X-ORIGINAL-URL:https://www.wizernes.fr
X-WR-CALDESC:Évènements pour Mairie de Wizernes
REFRESH-INTERVAL;VALUE=DURATION:PT1H
X-Robots-Tag:noindex
X-PUBLISHED-TTL:PT1H
BEGIN:VTIMEZONE
TZID:Europe/Paris
BEGIN:DAYLIGHT
TZOFFSETFROM:+0100
TZOFFSETTO:+0200
TZNAME:CEST
DTSTART:20240331T010000
END:DAYLIGHT
BEGIN:STANDARD
TZOFFSETFROM:+0200
TZOFFSETTO:+0100
TZNAME:CET
DTSTART:20241027T010000
END:STANDARD
BEGIN:DAYLIGHT
TZOFFSETFROM:+0100
TZOFFSETTO:+0200
TZNAME:CEST
DTSTART:20250330T010000
END:DAYLIGHT
BEGIN:STANDARD
TZOFFSETFROM:+0200
TZOFFSETTO:+0100
TZNAME:CET
DTSTART:20251026T010000
END:STANDARD
BEGIN:DAYLIGHT
TZOFFSETFROM:+0100
TZOFFSETTO:+0200
TZNAME:CEST
DTSTART:20260329T010000
END:DAYLIGHT
BEGIN:STANDARD
TZOFFSETFROM:+0200
TZOFFSETTO:+0100
TZNAME:CET
DTSTART:20261025T010000
END:STANDARD
BEGIN:DAYLIGHT
TZOFFSETFROM:+0100
TZOFFSETTO:+0200
TZNAME:CEST
DTSTART:20270328T010000
END:DAYLIGHT
BEGIN:STANDARD
TZOFFSETFROM:+0200
TZOFFSETTO:+0100
TZNAME:CET
DTSTART:20271031T010000
END:STANDARD
END:VTIMEZONE
BEGIN:VEVENT
DTSTART;TZID=Europe/Paris:20260420T080000
DTEND;TZID=Europe/Paris:20260420T170000
DTSTAMP:20260421T131731
CREATED:20260420T090517Z
LAST-MODIFIED:20260420T090517Z
UID:59426-1776672000-1776704400@www.wizernes.fr
SUMMARY:AVIS DE COUPURE D'EAU 22 AVRIL 2026
DESCRIPTION:En raison de travaux sur le réseau d’eau potable\, la distribution d’eau sera perturbée le Mercredi 22 avril de 8h00 à 16h30\, rue de la Place et place Jean Jaurès.
URL:https://www.wizernes.fr/event/avis-de-coupure-deau-22-avril-2026/
END:VEVENT
BEGIN:VEVENT
DTSTART;TZID=Europe/Paris:20260414T080000
DTEND;TZID=Europe/Paris:20260414T163000
DTSTAMP:20260421T131731
CREATED:20260410T133742Z
LAST-MODIFIED:20260410T133742Z
UID:59365-1776153600-1776184200@www.wizernes.fr
SUMMARY:AVIS DE COUPURE D'EAU 14 AVRIL 2026
DESCRIPTION:AVIS DE COUPURE D’EAU. \nEn raison de travaux sur le réseau d’eau potable\, la distribution d’eau sera perturbée le Mardi 14 avril 2026 de 8h00 à 16h30 rue de la Place\, rue du Moulin\, place Jean Jaurès et une partie de la rue François Mitterrand. Afin d’éviter toute détérioration de vos appareils nous vous conseillons de mettre à l’arrêt vos machines à laver le linge\, lave-vaisselles\, surpresseurs\, adoucisseurs… et de laisser vos robinets fermés.
URL:https://www.wizernes.fr/event/avis-de-coupure-deau-14-avril-2026/
END:VEVENT
BEGIN:VEVENT
DTSTART;TZID=Europe/Paris:20260413T190000
DTEND;TZID=Europe/Paris:20260413T200000
DTSTAMP:20260421T131731
CREATED:20260409T174209Z
LAST-MODIFIED:20260409T174209Z
UID:59361-1776106800-1776110400@www.wizernes.fr
SUMMARY:Conseil Municipal - 13/04/2026 - 19h00
DESCRIPTION:Le Conseil Municipal de la Ville se réunira le 13 Avril 2026 à 19h au sein de la salle du Conseil Municipal en Mairie. L’ordre du jour est téléchargeable ici.
URL:https://www.wizernes.fr/event/conseil-municipal-13-04-2026-19h00/
END:VEVENT
BEGIN:VEVENT
DTSTART;TZID=Europe/Paris:20260413T080000
DTEND;TZID=Europe/Paris:20260413T163000
DTSTAMP:20260421T131731
CREATED:20260410T133926Z
LAST-MODIFIED:20260410T133926Z
UID:59368-1776067200-1776097800@www.wizernes.fr
SUMMARY:AVIS DE COUPURE D'EAU 13 AVRIL 2026
DESCRIPTION:AVIS DE COUPURE D’EAU. \nEn raison de travaux sur le réseau d’eau potable\, la distribution d’eau sera perturbée le Lundi 13 avril 2026 de 8h00 à 16h30 rue de la Place\, rue du Moulin\, place Jean Jaurès et une partie de la rue François Mitterrand. Afin d’éviter toute détérioration de vos appareils nous vous conseillons de mettre à l’arrêt vos machines à laver le linge\, lave-vaisselles\, surpresseurs\, adoucisseurs… et de laisser vos robinets fermés.
URL:https://www.wizernes.fr/event/avis-de-coupure-deau-13-avril-2026/
END:VEVENT
BEGIN:VEVENT
DTSTART;TZID=Europe/Paris:20260329T103000
DTEND;TZID=Europe/Paris:20260329T120000
DTSTAMP:20260421T131731
CREATED:20260326T075802Z
LAST-MODIFIED:20260326T080602Z
UID:59306-1774780200-1774785600@www.wizernes.fr
SUMMARY:Conseil Municipal d'installation du Maire - 29/03/26 - 10h30
DESCRIPTION:Conseil Municipal d’installation du Maire dimanche 29 mars à 10h30 salle du Conseil en Mairie. \nL’ordre du jour est consultable ICI \n 
URL:https://www.wizernes.fr/event/conseil-municipal-29-03-26-10h30/
END:VEVENT
BEGIN:VEVENT
DTSTART;TZID=Europe/Paris:20260317T080000
DTEND;TZID=Europe/Paris:20260317T170000
DTSTAMP:20260421T131731
CREATED:20260317T130824Z
LAST-MODIFIED:20260317T130824Z
UID:59301-1773734400-1773766800@www.wizernes.fr
SUMMARY:Les Randos de la CAPSO
DESCRIPTION:Partez à la découverte des sentiers de randonnée pour connaître la richesse et la diversité des paysages de la CAPSO d’avril à octobre 2026 pour en savoir plus\, cliquez ICI
URL:https://www.wizernes.fr/event/les-randos-de-la-capso/
END:VEVENT
BEGIN:VEVENT
DTSTART;TZID=Europe/Paris:20260218T190000
DTEND;TZID=Europe/Paris:20260218T200000
DTSTAMP:20260421T131731
CREATED:20260218T091910Z
LAST-MODIFIED:20260218T092557Z
UID:59191-1771441200-1771444800@www.wizernes.fr
SUMMARY:Conseil Municipal - 18/02/2026 - 19h00
DESCRIPTION:Le Conseil Municipal de la Ville se réunira le 18 Février 2026 à 19h au sein de la salle du Conseil Municipal en Mairie. L’ordre du jour est téléchargeable ici.
URL:https://www.wizernes.fr/event/conseil-municipal-18-02-2026-19h00/
END:VEVENT
BEGIN:VEVENT
DTSTART;TZID=Europe/Paris:20251210T190000
DTEND;TZID=Europe/Paris:20251210T200000
DTSTAMP:20260421T131731
CREATED:20251205T091504Z
LAST-MODIFIED:20251205T091504Z
UID:59095-1765393200-1765396800@www.wizernes.fr
SUMMARY:Conseil Municipal - 10/12/2025 - 19h00
DESCRIPTION:Le Conseil Municipal de la Ville se réunira le 10 Décembre 2025 à 19h au sein de la salle du Conseil Municipal en Mairie. L’ordre du jour est téléchargeable ici.
URL:https://www.wizernes.fr/event/conseil-municipal-10-12-2025-19h00/
END:VEVENT
BEGIN:VEVENT
DTSTART;TZID=Europe/Paris:20251117T190000
DTEND;TZID=Europe/Paris:20251117T200000
DTSTAMP:20260421T131731
CREATED:20251112T104034Z
LAST-MODIFIED:20251112T104203Z
UID:59034-1763406000-1763409600@www.wizernes.fr
SUMMARY:Conseil Municipal - 17/11/2025 - 19h00
DESCRIPTION:Le Conseil Municipal de la Ville se réunira le 17 Novembre 2025 à 19h au sein de la salle du Conseil Municipal en Mairie. L’ordre du jour est téléchargeable ici.
URL:https://www.wizernes.fr/event/conseil-municipal-17-11-2025-19h00/
END:VEVENT
BEGIN:VEVENT
DTSTART;TZID=Europe/Paris:20250920T080000
DTEND;TZID=Europe/Paris:20250924T170000
DTSTAMP:20260421T131731
CREATED:20250821T063855Z
LAST-MODIFIED:20250821T063914Z
UID:58945-1758355200-1758733200@www.wizernes.fr
SUMMARY:Ducasse de WIZERNES
DESCRIPTION:Samedi 20 septembre Brocante de 8h00 à 17h00 (rue Henri Lévy Ullman et dans l’enceinte du Groupe Scolaire) \nExposition de tricot de 8h à 17h00 (au sein de la Salle de danse de l’école maternelle) \nConcert organisé par l’Harmonie Municipale de Wizernes à 18h00 (Salle des Fêtes) \nLes attractions foraines seront présentes jusqu’au mercredi 24 septembre
URL:https://www.wizernes.fr/event/ducasse-de-wizernes/
END:VEVENT
BEGIN:VEVENT
DTSTART;TZID=Europe/Paris:20250919T080000
DTEND;TZID=Europe/Paris:20250919T170000
DTSTAMP:20260421T131731
CREATED:20250919T094500Z
LAST-MODIFIED:20250919T094554Z
UID:58994-1758268800-1758301200@www.wizernes.fr
SUMMARY:Séance de Dédicaces
DESCRIPTION:Le 1er octobre 2025 à la Bibliothèque de Wizernes aura lieu une séance de dédicaces avec Isabelle BRIETZ et Sylviane ROSE \nde 14h30 à 16h30.
URL:https://www.wizernes.fr/event/seance-de-dedicaces/
END:VEVENT
BEGIN:VEVENT
DTSTART;TZID=Europe/Paris:20250912T080000
DTEND;TZID=Europe/Paris:20250912T170000
DTSTAMP:20260421T131731
CREATED:20250912T142655Z
LAST-MODIFIED:20250912T143540Z
UID:58985-1757664000-1757696400@www.wizernes.fr
SUMMARY:La semaine Bleue
DESCRIPTION:La Ville de WIZERNES et le CCAS vous donnent rendez-vous pour la semaine Bleue! \nLes retraités de Wizernes sont chaleureusement conviés à deux ateliers: le mercredi 08 octobre 2025 à 10h00 et le jeudi 09 octobre 2025 à 10h00 Salle du Foyer Edouard Leducq à Wizernes. Une inscription en Mairie est obligatoire pour le 30 septembre 2025 au plus tard. \n 
URL:https://www.wizernes.fr/event/la-semaine-bleue/
END:VEVENT
BEGIN:VEVENT
DTSTART;TZID=Europe/Paris:20250902T190000
DTEND;TZID=Europe/Paris:20250902T200000
DTSTAMP:20260421T131731
CREATED:20250828T142225Z
LAST-MODIFIED:20250828T142225Z
UID:58956-1756839600-1756843200@www.wizernes.fr
SUMMARY:Conseil Municipal - 02 Septembre 2025 - 19h00
DESCRIPTION:Le Conseil Municipal de la Ville se réunira le 02 Septembre 2025 à 19h au sein de la salle du Conseil Municipal en Mairie. L’ordre du jour est téléchargeable ici. \n 
URL:https://www.wizernes.fr/event/conseil-municipal-02-septembre-2025-19h00/
END:VEVENT
BEGIN:VEVENT
DTSTART;TZID=Europe/Paris:20250623T080000
DTEND;TZID=Europe/Paris:20250623T170000
DTSTAMP:20260421T131731
CREATED:20250623T065940Z
LAST-MODIFIED:20250623T070104Z
UID:58799-1750665600-1750698000@www.wizernes.fr
SUMMARY:Fête Nationale 13 juillet 2025
DESCRIPTION:20h30 Spectacle de variétés \n“CENT POUR CENT FRANCE” \nPrésenté par Métronome \nSalle du CHOCQUET Ouverture des portes à 19h00 Gratuit – Places limitées. \n23h00 – Feu d’artifice
URL:https://www.wizernes.fr/event/fete-nationale-13-juillet-2025/
END:VEVENT
BEGIN:VEVENT
DTSTART;TZID=Europe/Paris:20250621T160000
DTEND;TZID=Europe/Paris:20250622T140000
DTSTAMP:20260421T131731
CREATED:20250612T141920Z
LAST-MODIFIED:20250616T093524Z
UID:58749-1750521600-1750600800@www.wizernes.fr
SUMMARY:Fête de la musique le 21 juin 2025 à partir de 16h00 et le 22 juin 2025 à partir de 11h00
DESCRIPTION:
URL:https://www.wizernes.fr/event/fete-de-la-musique-le-21-juin-2025-a-partir-de-16h00-et-le-22-juin-2025-a-partir-de-11h00/
END:VEVENT
BEGIN:VEVENT
DTSTART;TZID=Europe/Paris:20250614T200000
DTEND;TZID=Europe/Paris:20250614T220000
DTSTAMP:20260421T131731
CREATED:20250612T082422Z
LAST-MODIFIED:20250612T091249Z
UID:58741-1749931200-1749938400@www.wizernes.fr
SUMMARY:Concert de Gala par l'Orchestre d'Harmonie de Wizernes le 14 juin 2025 à 20h00 Salle du Chocquet
DESCRIPTION:
URL:https://www.wizernes.fr/event/concert-de-gala-par-lorchestre-dharmonie-14-juin-2025/
END:VEVENT
BEGIN:VEVENT
DTSTART;TZID=Europe/Paris:20250513T190000
DTEND;TZID=Europe/Paris:20250513T210000
DTSTAMP:20260421T131731
CREATED:20250507T103300Z
LAST-MODIFIED:20250507T103549Z
UID:58665-1747162800-1747170000@www.wizernes.fr
SUMMARY:Conseil Municipal du 13 Mai 2025 à 19 h 00
DESCRIPTION:Le Conseil Municipal de la Ville se réunira le 13 Mai 2025 à 19h au sein de la salle du Conseil Municipal en Mairie. L’ordre du jour est téléchargeable ici. \n 
URL:https://www.wizernes.fr/event/conseil-municipal-du-13-mai-2025-a-19-h-00/
END:VEVENT
BEGIN:VEVENT
DTSTART;TZID=Europe/Paris:20250513T080000
DTEND;TZID=Europe/Paris:20250513T170000
DTSTAMP:20260421T131731
CREATED:20250513T094744Z
LAST-MODIFIED:20250513T094744Z
UID:58691-1747123200-1747155600@www.wizernes.fr
SUMMARY:Camp des Bruyères juillet 2025 !
DESCRIPTION:Tout savoir sur les accueils de loisirs du Camp des Bruyères  \n                                                 en juillet 2025 ! \n  \n  \nRetrouvez ci-après l’ensemble des documents à télécharger \n                                 pour y inscrire votre enfant. \nSi vous imprimez le document « Fiche d’inscription – Fiche sanitaire »\, pensez à le faire en recto/verso. \nDes dossiers imprimés seront également disponibles dans les mairies participant au fonctionnement de nos accueils de loisirs (LONGUENESSE\, SAINT-OMER\, SALPERWICK\, WIZERNES et HEURINGHEM) dès le 15 mai. \n  \nLa session 2025 en quelques mots : \n– Du lundi 7 au jeudi 31 juillet  pour les enfants et adolescents de 3 à 16 ans\, résidant sur toute commune \n– Inscription à la  session complète (7 au 31 juillet ) ou à la quinzaine (du 7 au 19 juillet  ou  du 21 au 31 juillet) \n      Priorité aux enfants des communes participant au fonctionnement des accueils (LONGUENESSE\, SAINT-OMER\,  \n                 WIZERNES\, SALPERWICK et HEURINGHEM) et aux enfants s’inscrivant pour la totalité de la session. \n– Ouverture de 7h 45 à 18h 15 avec garderie sur les 3 accueils\, sans supplément\, le matin (7h45-8h30) et le soir (17h- 18h15) \n– Fonctionnement en journée continue\, repas et goûter inclus dans le tarif (collation le matin pour les 3-5 ans) \n– Enfants répartis selon leur âge\, en trois accueils sur LONGUENESSE (3-5 ans / 6-11 ans / 12-16 ans) \n– Service de ramassage gratuit par autocar à partir de divers points sur les communes participant au fonctionnement des \naccueils : LONGUENESSE\, SALPERWICK\, SAINT-OMER\, WIZERNES et HEURINGHEM \n– Activités et sorties nombreuses et variées en fonction de l’âge des enfants et de la météo \n– Mise en place de 13 mini-camps (facultatifs) de 1 à 4 nuitées\, répartis sur les différentes tranches d’âge (labellisation de 3 mini-camps en “colos apprenantes”\, permettant la gratuité pour les enfants des familles éligibles selon le cahier des charges du dispositif) \n– Thème du séjour : Aventurier\, aventurière\, on t’attend au Camp des Bruyères ! \n  \n  \nPréinscription obligatoire à campdesbruyeres@gmail.com \navec un dépôt du dossier à une permanence dès que possible \n(voir document REGLEMENT ET CONDITIONS D’INSCRIPTION) \n  \n1ère permanence : vendredi 23 mai (17h30-20h30) → Salle du Foyer / rue E. Leduc à WIZERNES \n  \n  \nLes autres permanences sont notées sur le document “Règlement et conditions d’inscription” \n. Contact : campdesbruyeres@gmail.com             Camp de Vacances des Bruyères \nDETAILS MINI-CAMPS et MOMENTS FORTS 2025 \nFICHE INSCRIPTION – FICHE SANITAIRE 2025 \nINSCRIPTION MINI-CAMPS \nPOINTS DE RAMASSAGE 2025 \nREGLEMENT ET CONDITIONS INSCRIPTION 2025 \nTARIFS 2025
URL:https://www.wizernes.fr/event/camp-des-bruyeres-juillet-2025/
END:VEVENT
BEGIN:VEVENT
DTSTART;TZID=Europe/Paris:20250409T190000
DTEND;TZID=Europe/Paris:20250409T203000
DTSTAMP:20260421T131731
CREATED:20250404T100231Z
LAST-MODIFIED:20250407T063403Z
UID:58494-1744225200-1744230600@www.wizernes.fr
SUMMARY:Conseil Municipal du 9 avril 2025 à 19h00 Salle du Conseil
DESCRIPTION:Le Conseil Municipal de la Ville se réunira le 09 Avril 2025 à 19h au sein de la salle du Conseil Municipal en Mairie. \nL’ordre du jour est téléchargeable ici : 2 – ODJ CM 09 04 2025
URL:https://www.wizernes.fr/event/conseil-municipal-du-9-avril-2025-salle-du-conseil-a-19h00/
END:VEVENT
BEGIN:VEVENT
DTSTART;TZID=Europe/Paris:20250324T190000
DTEND;TZID=Europe/Paris:20250324T210000
DTSTAMP:20260421T131731
CREATED:20250324T075725Z
LAST-MODIFIED:20250324T075725Z
UID:58461-1742842800-1742850000@www.wizernes.fr
SUMMARY:Conseil Municipal du 24 mars 2025 à 19h00 Salle du Conseil
DESCRIPTION:2 – ODJ CM 28 03 2025
URL:https://www.wizernes.fr/event/conseil-municipal-du-24-mars-2025-a-19h00-salle-du-conseil/
END:VEVENT
BEGIN:VEVENT
DTSTART;TZID=Europe/Paris:20250324T180000
DTEND;TZID=Europe/Paris:20250324T203000
DTSTAMP:20260421T131731
CREATED:20250314T150910Z
LAST-MODIFIED:20250314T150910Z
UID:58453-1742839200-1742848200@www.wizernes.fr
SUMMARY:RÉDUISONS NOS DÉCHETS
DESCRIPTION:Réunion sur le compostage individuel et collectif est organisée le Lundi 24 Mars 2025 à 18h00 \nSalle Vauban – Allée des Glacis \nSAINT-OMER
URL:https://www.wizernes.fr/event/reduisons-nos-dechets/
END:VEVENT
END:VCALENDAR