BEGIN:VCALENDAR
VERSION:2.0
PRODID:-//Mairie de Wizernes - ECPv6.15.14//NONSGML v1.0//EN
CALSCALE:GREGORIAN
METHOD:PUBLISH
X-ORIGINAL-URL:https://www.wizernes.fr
X-WR-CALDESC:Évènements pour Mairie de Wizernes
REFRESH-INTERVAL;VALUE=DURATION:PT1H
X-Robots-Tag:noindex
X-PUBLISHED-TTL:PT1H
BEGIN:VTIMEZONE
TZID:Europe/Paris
BEGIN:DAYLIGHT
TZOFFSETFROM:+0100
TZOFFSETTO:+0200
TZNAME:CEST
DTSTART:20250330T010000
END:DAYLIGHT
BEGIN:STANDARD
TZOFFSETFROM:+0200
TZOFFSETTO:+0100
TZNAME:CET
DTSTART:20251026T010000
END:STANDARD
BEGIN:DAYLIGHT
TZOFFSETFROM:+0100
TZOFFSETTO:+0200
TZNAME:CEST
DTSTART:20260329T010000
END:DAYLIGHT
BEGIN:STANDARD
TZOFFSETFROM:+0200
TZOFFSETTO:+0100
TZNAME:CET
DTSTART:20261025T010000
END:STANDARD
BEGIN:DAYLIGHT
TZOFFSETFROM:+0100
TZOFFSETTO:+0200
TZNAME:CEST
DTSTART:20270328T010000
END:DAYLIGHT
BEGIN:STANDARD
TZOFFSETFROM:+0200
TZOFFSETTO:+0100
TZNAME:CET
DTSTART:20271031T010000
END:STANDARD
END:VTIMEZONE
BEGIN:VEVENT
DTSTART;TZID=Europe/Paris:20260409T080000
DTEND;TZID=Europe/Paris:20260604T170000
DTSTAMP:20260421T150423
CREATED:20260417T064631Z
LAST-MODIFIED:20260420T090909Z
UID:59423-1775721600-1780592400@www.wizernes.fr
SUMMARY:Campagne déclarative impôt sur les revenus
DESCRIPTION:Ouverture de la déclaration en ligne : le 9 avril 2026 \nDate limite fixée au 4 juin 2026 pour le Pas-de-Calais. \nDate limite de dépôt des déclarations “papier” : 19 mai 2026 \nPour plus de renseignements\, cliquez ICI \nVous êtes étudiant ? \nCe qu’il faut savoir sur l’impôt sur les revenus. Cliquez ICI
URL:https://www.wizernes.fr/event/campagne-declarative-impot-sur-les-revenus/
END:VEVENT
BEGIN:VEVENT
DTSTART;TZID=Europe/Paris:20260420T080000
DTEND;TZID=Europe/Paris:20260420T170000
DTSTAMP:20260421T150423
CREATED:20260420T090517Z
LAST-MODIFIED:20260420T090517Z
UID:59426-1776672000-1776704400@www.wizernes.fr
SUMMARY:AVIS DE COUPURE D'EAU 22 AVRIL 2026
DESCRIPTION:En raison de travaux sur le réseau d’eau potable\, la distribution d’eau sera perturbée le Mercredi 22 avril de 8h00 à 16h30\, rue de la Place et place Jean Jaurès.
URL:https://www.wizernes.fr/event/avis-de-coupure-deau-22-avril-2026/
END:VEVENT
END:VCALENDAR